BEGIN:VCALENDAR
VERSION:2.0
PRODID:-//Lowe Mill ARTS &amp; Entertainment - ECPv6.15.17.1//NONSGML v1.0//EN
CALSCALE:GREGORIAN
METHOD:PUBLISH
X-ORIGINAL-URL:https://lowemill.art
X-WR-CALDESC:Events for Lowe Mill ARTS &amp; Entertainment
REFRESH-INTERVAL;VALUE=DURATION:PT1H
X-Robots-Tag:noindex
X-PUBLISHED-TTL:PT1H
BEGIN:VTIMEZONE
TZID:America/Chicago
BEGIN:DAYLIGHT
TZOFFSETFROM:-0600
TZOFFSETTO:-0500
TZNAME:CDT
DTSTART:20250309T080000
END:DAYLIGHT
BEGIN:STANDARD
TZOFFSETFROM:-0500
TZOFFSETTO:-0600
TZNAME:CST
DTSTART:20251102T070000
END:STANDARD
BEGIN:DAYLIGHT
TZOFFSETFROM:-0600
TZOFFSETTO:-0500
TZNAME:CDT
DTSTART:20260308T080000
END:DAYLIGHT
BEGIN:STANDARD
TZOFFSETFROM:-0500
TZOFFSETTO:-0600
TZNAME:CST
DTSTART:20261101T070000
END:STANDARD
BEGIN:DAYLIGHT
TZOFFSETFROM:-0600
TZOFFSETTO:-0500
TZNAME:CDT
DTSTART:20270314T080000
END:DAYLIGHT
BEGIN:STANDARD
TZOFFSETFROM:-0500
TZOFFSETTO:-0600
TZNAME:CST
DTSTART:20271107T070000
END:STANDARD
END:VTIMEZONE
BEGIN:VEVENT
DTSTART;TZID=America/Chicago:20260430T110000
DTEND;TZID=America/Chicago:20260430T190000
DTSTAMP:20260425T213039
CREATED:20250627T220126Z
LAST-MODIFIED:20250627T220951Z
UID:10027291-1777546800-1777575600@lowemill.art
SUMMARY:Still Life Days: Open Studio for Drawing\, Painting\, and Sculpting
DESCRIPTION:Stephanie Weaver and Huntsville Art Supply Studios 269 and 270 in expressive Lowe Mill ARTS & Entertainment invites you to maximize your creativity in a relaxed\, non-instructed open studio session\, perfect for artists of all levels. Pick your 3 hour slot\, bring your own supplies to draw\, paint\, or sculpt a beautifully curated still life setup\, refreshed each session by one of the many artists at Lowe Mill A&E! \nWe provide easels\, tables\, and chairs for your comfort. \nBring your favorite art supplies (e.g.\, oil paints\, pencils\, clay) and Stephanie will provide the Still life setup\, easels\, tables\, and chairs! \nThis is the perfect environment to hone your skills\, experiment with new techniques\, or just enjoy a time and space for creative freedom. Come paint\, draw\, or sculpt with Stephanie—your masterpiece awaits!
URL:https://lowemill.art/event/still-life-days-open-studio-for-drawing-painting-and-sculpting/2026-04-30/
LOCATION:Huntsville Art Supply | Studios 269 and 270
CATEGORIES:Classes & Wokshops,Featured
ATTACH;FMTTYPE=image/jpeg:https://lowemill.art/wp-content/uploads/2025/06/Flowers_in_a_Glass_Vase_LACMA_M.2009.106.4-Hannah-Johnson.jpg
END:VEVENT
BEGIN:VEVENT
DTSTART;TZID=America/Chicago:20260507T110000
DTEND;TZID=America/Chicago:20260507T190000
DTSTAMP:20260425T213039
CREATED:20250627T220126Z
LAST-MODIFIED:20250627T220951Z
UID:10027292-1778151600-1778180400@lowemill.art
SUMMARY:Still Life Days: Open Studio for Drawing\, Painting\, and Sculpting
DESCRIPTION:Stephanie Weaver and Huntsville Art Supply Studios 269 and 270 in expressive Lowe Mill ARTS & Entertainment invites you to maximize your creativity in a relaxed\, non-instructed open studio session\, perfect for artists of all levels. Pick your 3 hour slot\, bring your own supplies to draw\, paint\, or sculpt a beautifully curated still life setup\, refreshed each session by one of the many artists at Lowe Mill A&E! \nWe provide easels\, tables\, and chairs for your comfort. \nBring your favorite art supplies (e.g.\, oil paints\, pencils\, clay) and Stephanie will provide the Still life setup\, easels\, tables\, and chairs! \nThis is the perfect environment to hone your skills\, experiment with new techniques\, or just enjoy a time and space for creative freedom. Come paint\, draw\, or sculpt with Stephanie—your masterpiece awaits!
URL:https://lowemill.art/event/still-life-days-open-studio-for-drawing-painting-and-sculpting/2026-05-07/
LOCATION:Huntsville Art Supply | Studios 269 and 270
CATEGORIES:Classes & Wokshops,Featured
ATTACH;FMTTYPE=image/jpeg:https://lowemill.art/wp-content/uploads/2025/06/Flowers_in_a_Glass_Vase_LACMA_M.2009.106.4-Hannah-Johnson.jpg
END:VEVENT
BEGIN:VEVENT
DTSTART;TZID=America/Chicago:20260508T173000
DTEND;TZID=America/Chicago:20260508T190000
DTSTAMP:20260425T213039
CREATED:20260411T174626Z
LAST-MODIFIED:20260411T174626Z
UID:10032616-1778261400-1778266800@lowemill.art
SUMMARY:Date Night: Paint By Numbers
DESCRIPTION:Date Night or Girls Night—get ready for a creative escape you won’t forget at Huntsville Art Supply Studios 269 & 270 inside Lowe Mill ARTS & Entertainment! \nStep into a cozy\, art-filled studio where you can relax\, laugh\, and let your creativity flow. Choose your own paint-by-number design\, sip on a delicious drink from Ravenwood Meadery\, and settle in as a movie plays—setting the perfect vibe for a night of fun and connection. \nAs you paint\, Stephanie will be there with tips\, tricks\, and encouragement to help bring your piece to life—whether you’re a total beginner or just looking to unwind. You’ll make meaningful progress during the class and leave with the confidence (and excitement!) to finish your masterpiece at home. \nIt’s more than a class—it’s a memory in the making. So grab your partner\, gather your friends\, and come sip\, paint\, and create something special together. \nSpots are limited\, so reserve yours now! \nClass Info:Guests 16 and under must be accompanied by an adult. All attendees must have a paid seat. \n\n\n\n\n\n\n\n  \n  \n  \n  \nEvery 2nd Friday of the Month: May 8\, June 12\, Jul 10\, August 14
URL:https://lowemill.art/event/date-night-paint-by-numbers/2026-05-08/
LOCATION:Huntsville Art Supply | Studios 269 and 270
CATEGORIES:On Event Calendar
ATTACH;FMTTYPE=image/jpeg:https://lowemill.art/wp-content/uploads/2026/04/HAS-Paint-by-Number-Date-Night.jpg
END:VEVENT
BEGIN:VEVENT
DTSTART;TZID=America/Chicago:20260514T110000
DTEND;TZID=America/Chicago:20260514T190000
DTSTAMP:20260425T213039
CREATED:20250627T220126Z
LAST-MODIFIED:20250627T220951Z
UID:10027293-1778756400-1778785200@lowemill.art
SUMMARY:Still Life Days: Open Studio for Drawing\, Painting\, and Sculpting
DESCRIPTION:Stephanie Weaver and Huntsville Art Supply Studios 269 and 270 in expressive Lowe Mill ARTS & Entertainment invites you to maximize your creativity in a relaxed\, non-instructed open studio session\, perfect for artists of all levels. Pick your 3 hour slot\, bring your own supplies to draw\, paint\, or sculpt a beautifully curated still life setup\, refreshed each session by one of the many artists at Lowe Mill A&E! \nWe provide easels\, tables\, and chairs for your comfort. \nBring your favorite art supplies (e.g.\, oil paints\, pencils\, clay) and Stephanie will provide the Still life setup\, easels\, tables\, and chairs! \nThis is the perfect environment to hone your skills\, experiment with new techniques\, or just enjoy a time and space for creative freedom. Come paint\, draw\, or sculpt with Stephanie—your masterpiece awaits!
URL:https://lowemill.art/event/still-life-days-open-studio-for-drawing-painting-and-sculpting/2026-05-14/
LOCATION:Huntsville Art Supply | Studios 269 and 270
CATEGORIES:Classes & Wokshops,Featured
ATTACH;FMTTYPE=image/jpeg:https://lowemill.art/wp-content/uploads/2025/06/Flowers_in_a_Glass_Vase_LACMA_M.2009.106.4-Hannah-Johnson.jpg
END:VEVENT
BEGIN:VEVENT
DTSTART;TZID=America/Chicago:20260521T110000
DTEND;TZID=America/Chicago:20260521T190000
DTSTAMP:20260425T213039
CREATED:20250627T220126Z
LAST-MODIFIED:20250627T220951Z
UID:10027294-1779361200-1779390000@lowemill.art
SUMMARY:Still Life Days: Open Studio for Drawing\, Painting\, and Sculpting
DESCRIPTION:Stephanie Weaver and Huntsville Art Supply Studios 269 and 270 in expressive Lowe Mill ARTS & Entertainment invites you to maximize your creativity in a relaxed\, non-instructed open studio session\, perfect for artists of all levels. Pick your 3 hour slot\, bring your own supplies to draw\, paint\, or sculpt a beautifully curated still life setup\, refreshed each session by one of the many artists at Lowe Mill A&E! \nWe provide easels\, tables\, and chairs for your comfort. \nBring your favorite art supplies (e.g.\, oil paints\, pencils\, clay) and Stephanie will provide the Still life setup\, easels\, tables\, and chairs! \nThis is the perfect environment to hone your skills\, experiment with new techniques\, or just enjoy a time and space for creative freedom. Come paint\, draw\, or sculpt with Stephanie—your masterpiece awaits!
URL:https://lowemill.art/event/still-life-days-open-studio-for-drawing-painting-and-sculpting/2026-05-21/
LOCATION:Huntsville Art Supply | Studios 269 and 270
CATEGORIES:Classes & Wokshops,Featured
ATTACH;FMTTYPE=image/jpeg:https://lowemill.art/wp-content/uploads/2025/06/Flowers_in_a_Glass_Vase_LACMA_M.2009.106.4-Hannah-Johnson.jpg
END:VEVENT
BEGIN:VEVENT
DTSTART;TZID=America/Chicago:20260523T160000
DTEND;TZID=America/Chicago:20260523T183000
DTSTAMP:20260425T213039
CREATED:20251226T170428Z
LAST-MODIFIED:20251226T170428Z
UID:10030035-1779552000-1779561000@lowemill.art
SUMMARY:Paint Your Pet - Pop Art Pets with Stephanie Weaver
DESCRIPTION:  \nStephanie Weaver Studio 269 in dynamic Lowe Mill ARTS & Entertainment invites you to tap into your inner artist and create a vibrant\, pop art-style portrait of your beloved pet!  In this fun and creative painting class you will transform your pet’s photo into a bold\, colorful masterpiece. Perfect for beginners and pet lovers alike\, this hands-on workshop provides all the tools you need to paint like a pro—no experience required! \nClass Details \nWhat to Expect: Before the class\, submit a clear photo of ONE pet\, and Stephanie will pre-draw your pet’s outline on a canvas\, ready for you to paint. When you arrive\, choose your pop art color palette (think Andy Warhol vibes!) and dive into painting with step-by-step guidance. Watch two short prep videos (provided upon registration) to get inspired and ready.\nMaterials: All supplies are included—10×10″ panel canvas\, acrylic paints\, brushes\, and more. Just bring your pet’s photo (digital submission required before the event).\nBYOB: Feel free to bring your own beverage to enjoy while you paint.\nPrice: $75 per person (base price).\nPicture of Your Pet: Please submit the photo you would like for the artist to pre-draw on your canvas at least 3 days prior to the event. Send to info@huntsvilleartsupplies.com.\nVibe: Fun\, relaxed\, and pet-obsessed! Connect with other pet lovers in a supportive\, creative environment.\nWhy You’ll Love It \nStephanie’s classes are all about empowering \nWhen & Where: \nChoose the date that works for you. Class available in: \nJanuary 24th 4-6:30pm (picture of your pet is due by January 20th)\nFebruary 28th\, 4-6:30pm (picture of your pet is due by February 24th)\nMarch 28th\, 4-6:30pm (picture of your pet is due by March 24th)\nApril 25th\, 4-6:30pm (picture of your pet is due by April 21st)\nMay 23rd\, 4-6:30pm (picture of your pet is due by May 19th) \nSeating is limited to 15 \nSupplies Provided
URL:https://lowemill.art/event/paint-your-pet-pop-art-pets-with-stephanie-weaver-8/
LOCATION:Huntsville Art Supply | Studios 269 and 270
CATEGORIES:Classes & Wokshops
ATTACH;FMTTYPE=image/png:https://lowemill.art/wp-content/uploads/2025/12/1761877536_0-Hannah-Johnson.png
END:VEVENT
BEGIN:VEVENT
DTSTART;TZID=America/Chicago:20260528T110000
DTEND;TZID=America/Chicago:20260528T190000
DTSTAMP:20260425T213039
CREATED:20250627T220126Z
LAST-MODIFIED:20250627T220951Z
UID:10027295-1779966000-1779994800@lowemill.art
SUMMARY:Still Life Days: Open Studio for Drawing\, Painting\, and Sculpting
DESCRIPTION:Stephanie Weaver and Huntsville Art Supply Studios 269 and 270 in expressive Lowe Mill ARTS & Entertainment invites you to maximize your creativity in a relaxed\, non-instructed open studio session\, perfect for artists of all levels. Pick your 3 hour slot\, bring your own supplies to draw\, paint\, or sculpt a beautifully curated still life setup\, refreshed each session by one of the many artists at Lowe Mill A&E! \nWe provide easels\, tables\, and chairs for your comfort. \nBring your favorite art supplies (e.g.\, oil paints\, pencils\, clay) and Stephanie will provide the Still life setup\, easels\, tables\, and chairs! \nThis is the perfect environment to hone your skills\, experiment with new techniques\, or just enjoy a time and space for creative freedom. Come paint\, draw\, or sculpt with Stephanie—your masterpiece awaits!
URL:https://lowemill.art/event/still-life-days-open-studio-for-drawing-painting-and-sculpting/2026-05-28/
LOCATION:Huntsville Art Supply | Studios 269 and 270
CATEGORIES:Classes & Wokshops,Featured
ATTACH;FMTTYPE=image/jpeg:https://lowemill.art/wp-content/uploads/2025/06/Flowers_in_a_Glass_Vase_LACMA_M.2009.106.4-Hannah-Johnson.jpg
END:VEVENT
BEGIN:VEVENT
DTSTART;TZID=America/Chicago:20260604T110000
DTEND;TZID=America/Chicago:20260604T190000
DTSTAMP:20260425T213039
CREATED:20250627T220126Z
LAST-MODIFIED:20250627T220951Z
UID:10027296-1780570800-1780599600@lowemill.art
SUMMARY:Still Life Days: Open Studio for Drawing\, Painting\, and Sculpting
DESCRIPTION:Stephanie Weaver and Huntsville Art Supply Studios 269 and 270 in expressive Lowe Mill ARTS & Entertainment invites you to maximize your creativity in a relaxed\, non-instructed open studio session\, perfect for artists of all levels. Pick your 3 hour slot\, bring your own supplies to draw\, paint\, or sculpt a beautifully curated still life setup\, refreshed each session by one of the many artists at Lowe Mill A&E! \nWe provide easels\, tables\, and chairs for your comfort. \nBring your favorite art supplies (e.g.\, oil paints\, pencils\, clay) and Stephanie will provide the Still life setup\, easels\, tables\, and chairs! \nThis is the perfect environment to hone your skills\, experiment with new techniques\, or just enjoy a time and space for creative freedom. Come paint\, draw\, or sculpt with Stephanie—your masterpiece awaits!
URL:https://lowemill.art/event/still-life-days-open-studio-for-drawing-painting-and-sculpting/2026-06-04/
LOCATION:Huntsville Art Supply | Studios 269 and 270
CATEGORIES:Classes & Wokshops,Featured
ATTACH;FMTTYPE=image/jpeg:https://lowemill.art/wp-content/uploads/2025/06/Flowers_in_a_Glass_Vase_LACMA_M.2009.106.4-Hannah-Johnson.jpg
END:VEVENT
BEGIN:VEVENT
DTSTART;TZID=America/Chicago:20260611T110000
DTEND;TZID=America/Chicago:20260611T190000
DTSTAMP:20260425T213039
CREATED:20250627T220126Z
LAST-MODIFIED:20250627T220951Z
UID:10027297-1781175600-1781204400@lowemill.art
SUMMARY:Still Life Days: Open Studio for Drawing\, Painting\, and Sculpting
DESCRIPTION:Stephanie Weaver and Huntsville Art Supply Studios 269 and 270 in expressive Lowe Mill ARTS & Entertainment invites you to maximize your creativity in a relaxed\, non-instructed open studio session\, perfect for artists of all levels. Pick your 3 hour slot\, bring your own supplies to draw\, paint\, or sculpt a beautifully curated still life setup\, refreshed each session by one of the many artists at Lowe Mill A&E! \nWe provide easels\, tables\, and chairs for your comfort. \nBring your favorite art supplies (e.g.\, oil paints\, pencils\, clay) and Stephanie will provide the Still life setup\, easels\, tables\, and chairs! \nThis is the perfect environment to hone your skills\, experiment with new techniques\, or just enjoy a time and space for creative freedom. Come paint\, draw\, or sculpt with Stephanie—your masterpiece awaits!
URL:https://lowemill.art/event/still-life-days-open-studio-for-drawing-painting-and-sculpting/2026-06-11/
LOCATION:Huntsville Art Supply | Studios 269 and 270
CATEGORIES:Classes & Wokshops,Featured
ATTACH;FMTTYPE=image/jpeg:https://lowemill.art/wp-content/uploads/2025/06/Flowers_in_a_Glass_Vase_LACMA_M.2009.106.4-Hannah-Johnson.jpg
END:VEVENT
BEGIN:VEVENT
DTSTART;TZID=America/Chicago:20260612T173000
DTEND;TZID=America/Chicago:20260612T190000
DTSTAMP:20260425T213039
CREATED:20260411T174626Z
LAST-MODIFIED:20260411T174626Z
UID:10032617-1781285400-1781290800@lowemill.art
SUMMARY:Date Night: Paint By Numbers
DESCRIPTION:Date Night or Girls Night—get ready for a creative escape you won’t forget at Huntsville Art Supply Studios 269 & 270 inside Lowe Mill ARTS & Entertainment! \nStep into a cozy\, art-filled studio where you can relax\, laugh\, and let your creativity flow. Choose your own paint-by-number design\, sip on a delicious drink from Ravenwood Meadery\, and settle in as a movie plays—setting the perfect vibe for a night of fun and connection. \nAs you paint\, Stephanie will be there with tips\, tricks\, and encouragement to help bring your piece to life—whether you’re a total beginner or just looking to unwind. You’ll make meaningful progress during the class and leave with the confidence (and excitement!) to finish your masterpiece at home. \nIt’s more than a class—it’s a memory in the making. So grab your partner\, gather your friends\, and come sip\, paint\, and create something special together. \nSpots are limited\, so reserve yours now! \nClass Info:Guests 16 and under must be accompanied by an adult. All attendees must have a paid seat. \n\n\n\n\n\n\n\n  \n  \n  \n  \nEvery 2nd Friday of the Month: May 8\, June 12\, Jul 10\, August 14
URL:https://lowemill.art/event/date-night-paint-by-numbers/2026-06-12/
LOCATION:Huntsville Art Supply | Studios 269 and 270
CATEGORIES:On Event Calendar
ATTACH;FMTTYPE=image/jpeg:https://lowemill.art/wp-content/uploads/2026/04/HAS-Paint-by-Number-Date-Night.jpg
END:VEVENT
BEGIN:VEVENT
DTSTART;TZID=America/Chicago:20260615T090000
DTEND;TZID=America/Chicago:20260617T120000
DTSTAMP:20260425T213039
CREATED:20260312T172848Z
LAST-MODIFIED:20260312T172848Z
UID:10032012-1781514000-1781697600@lowemill.art
SUMMARY:The Curious Artist Camp
DESCRIPTION:Huntsville Art Supply Studios 269 and 270 in imaginative Lowe Mill ARTS & Entertainment opens their doors to a hands-on 3-Day Kids Art Summer Camp where curiosity leads the way and creativity comes to life.  \nDesigned for ages 8–12\, this small-group camp invites young artists to explore color\, texture\, recycled materials\, and imaginative design while creating artwork they’ll be proud to take home. \nCampers will hunt for natural textures to turn into layered prints\, transform bottle caps and found materials into vibrant mosaic magnets\, and design their own Posca-painted monster mug that blends playful character art with a functional keepsake. With just 12 students\, each camper gets plenty of guidance\, encouragement\, and space to explore their imagination. \nBring a snack and drink each day and be sure to wear clothes that can get messy! \n\nWhat’s Included\nThe $225 fee covers the following in-class and take home supplies:\nAll art materials\nSketchbook\nPosca marker set\nPlay dough\nThree completed projects\nOptional take-home creative prompts \nAbout the Instructor\nHannah Johnson is a certified educator with years of experience working with children of all ages. She is passionate about hands-on creativity and creating welcoming spaces where young artists can explore\, experiment\, and build confidence. Hannah brings a thoughtful\, encouraging approach to the studio\, helping campers try new techniques while having fun and taking pride in their work. She is proud to be part of the Huntsville creative community and loves creating opportunities for young artists to grow right here at Huntsville Art Supplies.
URL:https://lowemill.art/event/the-curious-artist-camp/
LOCATION:Huntsville Art Supply | Studios 269 and 270
CATEGORIES:Classes & Wokshops
ATTACH;FMTTYPE=image/png:https://lowemill.art/wp-content/uploads/2026/03/1-Hannah-Johnson.png
END:VEVENT
BEGIN:VEVENT
DTSTART;TZID=America/Chicago:20260618T110000
DTEND;TZID=America/Chicago:20260618T190000
DTSTAMP:20260425T213039
CREATED:20250627T220126Z
LAST-MODIFIED:20250627T220951Z
UID:10027298-1781780400-1781809200@lowemill.art
SUMMARY:Still Life Days: Open Studio for Drawing\, Painting\, and Sculpting
DESCRIPTION:Stephanie Weaver and Huntsville Art Supply Studios 269 and 270 in expressive Lowe Mill ARTS & Entertainment invites you to maximize your creativity in a relaxed\, non-instructed open studio session\, perfect for artists of all levels. Pick your 3 hour slot\, bring your own supplies to draw\, paint\, or sculpt a beautifully curated still life setup\, refreshed each session by one of the many artists at Lowe Mill A&E! \nWe provide easels\, tables\, and chairs for your comfort. \nBring your favorite art supplies (e.g.\, oil paints\, pencils\, clay) and Stephanie will provide the Still life setup\, easels\, tables\, and chairs! \nThis is the perfect environment to hone your skills\, experiment with new techniques\, or just enjoy a time and space for creative freedom. Come paint\, draw\, or sculpt with Stephanie—your masterpiece awaits!
URL:https://lowemill.art/event/still-life-days-open-studio-for-drawing-painting-and-sculpting/2026-06-18/
LOCATION:Huntsville Art Supply | Studios 269 and 270
CATEGORIES:Classes & Wokshops,Featured
ATTACH;FMTTYPE=image/jpeg:https://lowemill.art/wp-content/uploads/2025/06/Flowers_in_a_Glass_Vase_LACMA_M.2009.106.4-Hannah-Johnson.jpg
END:VEVENT
BEGIN:VEVENT
DTSTART;TZID=America/Chicago:20260625T110000
DTEND;TZID=America/Chicago:20260625T190000
DTSTAMP:20260425T213039
CREATED:20250627T220126Z
LAST-MODIFIED:20250627T220951Z
UID:10027299-1782385200-1782414000@lowemill.art
SUMMARY:Still Life Days: Open Studio for Drawing\, Painting\, and Sculpting
DESCRIPTION:Stephanie Weaver and Huntsville Art Supply Studios 269 and 270 in expressive Lowe Mill ARTS & Entertainment invites you to maximize your creativity in a relaxed\, non-instructed open studio session\, perfect for artists of all levels. Pick your 3 hour slot\, bring your own supplies to draw\, paint\, or sculpt a beautifully curated still life setup\, refreshed each session by one of the many artists at Lowe Mill A&E! \nWe provide easels\, tables\, and chairs for your comfort. \nBring your favorite art supplies (e.g.\, oil paints\, pencils\, clay) and Stephanie will provide the Still life setup\, easels\, tables\, and chairs! \nThis is the perfect environment to hone your skills\, experiment with new techniques\, or just enjoy a time and space for creative freedom. Come paint\, draw\, or sculpt with Stephanie—your masterpiece awaits!
URL:https://lowemill.art/event/still-life-days-open-studio-for-drawing-painting-and-sculpting/2026-06-25/
LOCATION:Huntsville Art Supply | Studios 269 and 270
CATEGORIES:Classes & Wokshops,Featured
ATTACH;FMTTYPE=image/jpeg:https://lowemill.art/wp-content/uploads/2025/06/Flowers_in_a_Glass_Vase_LACMA_M.2009.106.4-Hannah-Johnson.jpg
END:VEVENT
BEGIN:VEVENT
DTSTART;TZID=America/Chicago:20260702T110000
DTEND;TZID=America/Chicago:20260702T190000
DTSTAMP:20260425T213039
CREATED:20250627T220126Z
LAST-MODIFIED:20250627T220951Z
UID:10027300-1782990000-1783018800@lowemill.art
SUMMARY:Still Life Days: Open Studio for Drawing\, Painting\, and Sculpting
DESCRIPTION:Stephanie Weaver and Huntsville Art Supply Studios 269 and 270 in expressive Lowe Mill ARTS & Entertainment invites you to maximize your creativity in a relaxed\, non-instructed open studio session\, perfect for artists of all levels. Pick your 3 hour slot\, bring your own supplies to draw\, paint\, or sculpt a beautifully curated still life setup\, refreshed each session by one of the many artists at Lowe Mill A&E! \nWe provide easels\, tables\, and chairs for your comfort. \nBring your favorite art supplies (e.g.\, oil paints\, pencils\, clay) and Stephanie will provide the Still life setup\, easels\, tables\, and chairs! \nThis is the perfect environment to hone your skills\, experiment with new techniques\, or just enjoy a time and space for creative freedom. Come paint\, draw\, or sculpt with Stephanie—your masterpiece awaits!
URL:https://lowemill.art/event/still-life-days-open-studio-for-drawing-painting-and-sculpting/2026-07-02/
LOCATION:Huntsville Art Supply | Studios 269 and 270
CATEGORIES:Classes & Wokshops,Featured
ATTACH;FMTTYPE=image/jpeg:https://lowemill.art/wp-content/uploads/2025/06/Flowers_in_a_Glass_Vase_LACMA_M.2009.106.4-Hannah-Johnson.jpg
END:VEVENT
BEGIN:VEVENT
DTSTART;TZID=America/Chicago:20260710T173000
DTEND;TZID=America/Chicago:20260710T190000
DTSTAMP:20260425T213039
CREATED:20260411T174626Z
LAST-MODIFIED:20260411T174626Z
UID:10032618-1783704600-1783710000@lowemill.art
SUMMARY:Date Night: Paint By Numbers
DESCRIPTION:Date Night or Girls Night—get ready for a creative escape you won’t forget at Huntsville Art Supply Studios 269 & 270 inside Lowe Mill ARTS & Entertainment! \nStep into a cozy\, art-filled studio where you can relax\, laugh\, and let your creativity flow. Choose your own paint-by-number design\, sip on a delicious drink from Ravenwood Meadery\, and settle in as a movie plays—setting the perfect vibe for a night of fun and connection. \nAs you paint\, Stephanie will be there with tips\, tricks\, and encouragement to help bring your piece to life—whether you’re a total beginner or just looking to unwind. You’ll make meaningful progress during the class and leave with the confidence (and excitement!) to finish your masterpiece at home. \nIt’s more than a class—it’s a memory in the making. So grab your partner\, gather your friends\, and come sip\, paint\, and create something special together. \nSpots are limited\, so reserve yours now! \nClass Info:Guests 16 and under must be accompanied by an adult. All attendees must have a paid seat. \n\n\n\n\n\n\n\n  \n  \n  \n  \nEvery 2nd Friday of the Month: May 8\, June 12\, Jul 10\, August 14
URL:https://lowemill.art/event/date-night-paint-by-numbers/2026-07-10/
LOCATION:Huntsville Art Supply | Studios 269 and 270
CATEGORIES:On Event Calendar
ATTACH;FMTTYPE=image/jpeg:https://lowemill.art/wp-content/uploads/2026/04/HAS-Paint-by-Number-Date-Night.jpg
END:VEVENT
BEGIN:VEVENT
DTSTART;TZID=America/Chicago:20260814T173000
DTEND;TZID=America/Chicago:20260814T190000
DTSTAMP:20260425T213039
CREATED:20260411T174626Z
LAST-MODIFIED:20260411T174626Z
UID:10032619-1786728600-1786734000@lowemill.art
SUMMARY:Date Night: Paint By Numbers
DESCRIPTION:Date Night or Girls Night—get ready for a creative escape you won’t forget at Huntsville Art Supply Studios 269 & 270 inside Lowe Mill ARTS & Entertainment! \nStep into a cozy\, art-filled studio where you can relax\, laugh\, and let your creativity flow. Choose your own paint-by-number design\, sip on a delicious drink from Ravenwood Meadery\, and settle in as a movie plays—setting the perfect vibe for a night of fun and connection. \nAs you paint\, Stephanie will be there with tips\, tricks\, and encouragement to help bring your piece to life—whether you’re a total beginner or just looking to unwind. You’ll make meaningful progress during the class and leave with the confidence (and excitement!) to finish your masterpiece at home. \nIt’s more than a class—it’s a memory in the making. So grab your partner\, gather your friends\, and come sip\, paint\, and create something special together. \nSpots are limited\, so reserve yours now! \nClass Info:Guests 16 and under must be accompanied by an adult. All attendees must have a paid seat. \n\n\n\n\n\n\n\n  \n  \n  \n  \nEvery 2nd Friday of the Month: May 8\, June 12\, Jul 10\, August 14
URL:https://lowemill.art/event/date-night-paint-by-numbers/2026-08-14/
LOCATION:Huntsville Art Supply | Studios 269 and 270
CATEGORIES:On Event Calendar
ATTACH;FMTTYPE=image/jpeg:https://lowemill.art/wp-content/uploads/2026/04/HAS-Paint-by-Number-Date-Night.jpg
END:VEVENT
END:VCALENDAR