BEGIN:VCALENDAR
VERSION:2.0
PRODID:-//Lowe Mill ARTS &amp; Entertainment - ECPv6.15.17.1//NONSGML v1.0//EN
CALSCALE:GREGORIAN
METHOD:PUBLISH
X-WR-CALNAME:Lowe Mill ARTS &amp; Entertainment
X-ORIGINAL-URL:https://lowemill.art
X-WR-CALDESC:Events for Lowe Mill ARTS &amp; Entertainment
REFRESH-INTERVAL;VALUE=DURATION:PT1H
X-Robots-Tag:noindex
X-PUBLISHED-TTL:PT1H
BEGIN:VTIMEZONE
TZID:America/Chicago
BEGIN:DAYLIGHT
TZOFFSETFROM:-0600
TZOFFSETTO:-0500
TZNAME:CDT
DTSTART:20250309T080000
END:DAYLIGHT
BEGIN:STANDARD
TZOFFSETFROM:-0500
TZOFFSETTO:-0600
TZNAME:CST
DTSTART:20251102T070000
END:STANDARD
BEGIN:DAYLIGHT
TZOFFSETFROM:-0600
TZOFFSETTO:-0500
TZNAME:CDT
DTSTART:20260308T080000
END:DAYLIGHT
BEGIN:STANDARD
TZOFFSETFROM:-0500
TZOFFSETTO:-0600
TZNAME:CST
DTSTART:20261101T070000
END:STANDARD
BEGIN:DAYLIGHT
TZOFFSETFROM:-0600
TZOFFSETTO:-0500
TZNAME:CDT
DTSTART:20270314T080000
END:DAYLIGHT
BEGIN:STANDARD
TZOFFSETFROM:-0500
TZOFFSETTO:-0600
TZNAME:CST
DTSTART:20271107T070000
END:STANDARD
END:VTIMEZONE
BEGIN:VEVENT
DTSTART;TZID=America/Chicago:20260508T173000
DTEND;TZID=America/Chicago:20260508T200000
DTSTAMP:20260420T232449
CREATED:20260416T171809Z
LAST-MODIFIED:20260416T174634Z
UID:10032714-1778261400-1778270400@lowemill.art
SUMMARY:Huntsville Figure Drawing
DESCRIPTION:Ann Moeller Studio 271 in vibrant Lowe Mill ARTS & Entertainment opens her doors for live model sessions that spark creativity and sharpen your artistic eye in an inspiring\, studio-rich environment. Whether you’re just beginning or a seasoned artist\, this is your chance to immerse yourself in the timeless practice of drawing from life. \nThese uninstructed sessions put freedom at the forefront—explore your own style\, experiment with technique\, and move at your own pace as you study the human form. Easels\, taborets\, and stools are provided\, so just bring your favorite art supplies and your creative energy. \nStep into a space where observation meets expression\, and let the rhythm of live drawing elevate your craft.
URL:https://lowemill.art/event/huntsville-figure-drawing-5/2026-05-08/
LOCATION:Ann Moeller Studios | Studio 271
CATEGORIES:Classes & Wokshops
ATTACH;FMTTYPE=image/jpeg:https://lowemill.art/wp-content/uploads/2026/04/Figure-Drawing-Flyer-3-Joe-Hopkinson.jpeg
END:VEVENT
BEGIN:VEVENT
DTSTART;TZID=America/Chicago:20260522T173000
DTEND;TZID=America/Chicago:20260522T200000
DTSTAMP:20260420T232449
CREATED:20260416T171809Z
LAST-MODIFIED:20260416T174634Z
UID:10032762-1779471000-1779480000@lowemill.art
SUMMARY:Huntsville Figure Drawing
DESCRIPTION:Ann Moeller Studio 271 in vibrant Lowe Mill ARTS & Entertainment opens her doors for live model sessions that spark creativity and sharpen your artistic eye in an inspiring\, studio-rich environment. Whether you’re just beginning or a seasoned artist\, this is your chance to immerse yourself in the timeless practice of drawing from life. \nThese uninstructed sessions put freedom at the forefront—explore your own style\, experiment with technique\, and move at your own pace as you study the human form. Easels\, taborets\, and stools are provided\, so just bring your favorite art supplies and your creative energy. \nStep into a space where observation meets expression\, and let the rhythm of live drawing elevate your craft.
URL:https://lowemill.art/event/huntsville-figure-drawing-5/2026-05-22/
LOCATION:Ann Moeller Studios | Studio 271
CATEGORIES:Classes & Wokshops
ATTACH;FMTTYPE=image/jpeg:https://lowemill.art/wp-content/uploads/2026/04/Figure-Drawing-Flyer-3-Joe-Hopkinson.jpeg
END:VEVENT
BEGIN:VEVENT
DTSTART;TZID=America/Chicago:20260605T173000
DTEND;TZID=America/Chicago:20260605T200000
DTSTAMP:20260420T232449
CREATED:20260416T171809Z
LAST-MODIFIED:20260416T174634Z
UID:10032763-1780680600-1780689600@lowemill.art
SUMMARY:Huntsville Figure Drawing
DESCRIPTION:Ann Moeller Studio 271 in vibrant Lowe Mill ARTS & Entertainment opens her doors for live model sessions that spark creativity and sharpen your artistic eye in an inspiring\, studio-rich environment. Whether you’re just beginning or a seasoned artist\, this is your chance to immerse yourself in the timeless practice of drawing from life. \nThese uninstructed sessions put freedom at the forefront—explore your own style\, experiment with technique\, and move at your own pace as you study the human form. Easels\, taborets\, and stools are provided\, so just bring your favorite art supplies and your creative energy. \nStep into a space where observation meets expression\, and let the rhythm of live drawing elevate your craft.
URL:https://lowemill.art/event/huntsville-figure-drawing-5/2026-06-05/
LOCATION:Ann Moeller Studios | Studio 271
CATEGORIES:Classes & Wokshops
ATTACH;FMTTYPE=image/jpeg:https://lowemill.art/wp-content/uploads/2026/04/Figure-Drawing-Flyer-3-Joe-Hopkinson.jpeg
END:VEVENT
BEGIN:VEVENT
DTSTART;TZID=America/Chicago:20260619T173000
DTEND;TZID=America/Chicago:20260619T200000
DTSTAMP:20260420T232449
CREATED:20260416T171809Z
LAST-MODIFIED:20260416T174634Z
UID:10032764-1781890200-1781899200@lowemill.art
SUMMARY:Huntsville Figure Drawing
DESCRIPTION:Ann Moeller Studio 271 in vibrant Lowe Mill ARTS & Entertainment opens her doors for live model sessions that spark creativity and sharpen your artistic eye in an inspiring\, studio-rich environment. Whether you’re just beginning or a seasoned artist\, this is your chance to immerse yourself in the timeless practice of drawing from life. \nThese uninstructed sessions put freedom at the forefront—explore your own style\, experiment with technique\, and move at your own pace as you study the human form. Easels\, taborets\, and stools are provided\, so just bring your favorite art supplies and your creative energy. \nStep into a space where observation meets expression\, and let the rhythm of live drawing elevate your craft.
URL:https://lowemill.art/event/huntsville-figure-drawing-5/2026-06-19/
LOCATION:Ann Moeller Studios | Studio 271
CATEGORIES:Classes & Wokshops
ATTACH;FMTTYPE=image/jpeg:https://lowemill.art/wp-content/uploads/2026/04/Figure-Drawing-Flyer-3-Joe-Hopkinson.jpeg
END:VEVENT
BEGIN:VEVENT
DTSTART;TZID=America/Chicago:20260703T173000
DTEND;TZID=America/Chicago:20260703T200000
DTSTAMP:20260420T232449
CREATED:20260416T171809Z
LAST-MODIFIED:20260416T174634Z
UID:10032765-1783099800-1783108800@lowemill.art
SUMMARY:Huntsville Figure Drawing
DESCRIPTION:Ann Moeller Studio 271 in vibrant Lowe Mill ARTS & Entertainment opens her doors for live model sessions that spark creativity and sharpen your artistic eye in an inspiring\, studio-rich environment. Whether you’re just beginning or a seasoned artist\, this is your chance to immerse yourself in the timeless practice of drawing from life. \nThese uninstructed sessions put freedom at the forefront—explore your own style\, experiment with technique\, and move at your own pace as you study the human form. Easels\, taborets\, and stools are provided\, so just bring your favorite art supplies and your creative energy. \nStep into a space where observation meets expression\, and let the rhythm of live drawing elevate your craft.
URL:https://lowemill.art/event/huntsville-figure-drawing-5/2026-07-03/
LOCATION:Ann Moeller Studios | Studio 271
CATEGORIES:Classes & Wokshops
ATTACH;FMTTYPE=image/jpeg:https://lowemill.art/wp-content/uploads/2026/04/Figure-Drawing-Flyer-3-Joe-Hopkinson.jpeg
END:VEVENT
BEGIN:VEVENT
DTSTART;TZID=America/Chicago:20260717T173000
DTEND;TZID=America/Chicago:20260717T200000
DTSTAMP:20260420T232449
CREATED:20260416T171809Z
LAST-MODIFIED:20260416T174634Z
UID:10032766-1784309400-1784318400@lowemill.art
SUMMARY:Huntsville Figure Drawing
DESCRIPTION:Ann Moeller Studio 271 in vibrant Lowe Mill ARTS & Entertainment opens her doors for live model sessions that spark creativity and sharpen your artistic eye in an inspiring\, studio-rich environment. Whether you’re just beginning or a seasoned artist\, this is your chance to immerse yourself in the timeless practice of drawing from life. \nThese uninstructed sessions put freedom at the forefront—explore your own style\, experiment with technique\, and move at your own pace as you study the human form. Easels\, taborets\, and stools are provided\, so just bring your favorite art supplies and your creative energy. \nStep into a space where observation meets expression\, and let the rhythm of live drawing elevate your craft.
URL:https://lowemill.art/event/huntsville-figure-drawing-5/2026-07-17/
LOCATION:Ann Moeller Studios | Studio 271
CATEGORIES:Classes & Wokshops
ATTACH;FMTTYPE=image/jpeg:https://lowemill.art/wp-content/uploads/2026/04/Figure-Drawing-Flyer-3-Joe-Hopkinson.jpeg
END:VEVENT
BEGIN:VEVENT
DTSTART;TZID=America/Chicago:20260731T173000
DTEND;TZID=America/Chicago:20260731T200000
DTSTAMP:20260420T232449
CREATED:20260416T171809Z
LAST-MODIFIED:20260416T174634Z
UID:10032767-1785519000-1785528000@lowemill.art
SUMMARY:Huntsville Figure Drawing
DESCRIPTION:Ann Moeller Studio 271 in vibrant Lowe Mill ARTS & Entertainment opens her doors for live model sessions that spark creativity and sharpen your artistic eye in an inspiring\, studio-rich environment. Whether you’re just beginning or a seasoned artist\, this is your chance to immerse yourself in the timeless practice of drawing from life. \nThese uninstructed sessions put freedom at the forefront—explore your own style\, experiment with technique\, and move at your own pace as you study the human form. Easels\, taborets\, and stools are provided\, so just bring your favorite art supplies and your creative energy. \nStep into a space where observation meets expression\, and let the rhythm of live drawing elevate your craft.
URL:https://lowemill.art/event/huntsville-figure-drawing-5/2026-07-31/
LOCATION:Ann Moeller Studios | Studio 271
CATEGORIES:Classes & Wokshops
ATTACH;FMTTYPE=image/jpeg:https://lowemill.art/wp-content/uploads/2026/04/Figure-Drawing-Flyer-3-Joe-Hopkinson.jpeg
END:VEVENT
BEGIN:VEVENT
DTSTART;TZID=America/Chicago:20260814T173000
DTEND;TZID=America/Chicago:20260814T200000
DTSTAMP:20260420T232449
CREATED:20260416T171809Z
LAST-MODIFIED:20260416T174634Z
UID:10032717-1786728600-1786737600@lowemill.art
SUMMARY:Huntsville Figure Drawing
DESCRIPTION:Ann Moeller Studio 271 in vibrant Lowe Mill ARTS & Entertainment opens her doors for live model sessions that spark creativity and sharpen your artistic eye in an inspiring\, studio-rich environment. Whether you’re just beginning or a seasoned artist\, this is your chance to immerse yourself in the timeless practice of drawing from life. \nThese uninstructed sessions put freedom at the forefront—explore your own style\, experiment with technique\, and move at your own pace as you study the human form. Easels\, taborets\, and stools are provided\, so just bring your favorite art supplies and your creative energy. \nStep into a space where observation meets expression\, and let the rhythm of live drawing elevate your craft.
URL:https://lowemill.art/event/huntsville-figure-drawing-5/2026-08-14/
LOCATION:Ann Moeller Studios | Studio 271
CATEGORIES:Classes & Wokshops
ATTACH;FMTTYPE=image/jpeg:https://lowemill.art/wp-content/uploads/2026/04/Figure-Drawing-Flyer-3-Joe-Hopkinson.jpeg
END:VEVENT
BEGIN:VEVENT
DTSTART;TZID=America/Chicago:20260828T173000
DTEND;TZID=America/Chicago:20260828T200000
DTSTAMP:20260420T232449
CREATED:20260416T171809Z
LAST-MODIFIED:20260416T174634Z
UID:10032768-1787938200-1787947200@lowemill.art
SUMMARY:Huntsville Figure Drawing
DESCRIPTION:Ann Moeller Studio 271 in vibrant Lowe Mill ARTS & Entertainment opens her doors for live model sessions that spark creativity and sharpen your artistic eye in an inspiring\, studio-rich environment. Whether you’re just beginning or a seasoned artist\, this is your chance to immerse yourself in the timeless practice of drawing from life. \nThese uninstructed sessions put freedom at the forefront—explore your own style\, experiment with technique\, and move at your own pace as you study the human form. Easels\, taborets\, and stools are provided\, so just bring your favorite art supplies and your creative energy. \nStep into a space where observation meets expression\, and let the rhythm of live drawing elevate your craft.
URL:https://lowemill.art/event/huntsville-figure-drawing-5/2026-08-28/
LOCATION:Ann Moeller Studios | Studio 271
CATEGORIES:Classes & Wokshops
ATTACH;FMTTYPE=image/jpeg:https://lowemill.art/wp-content/uploads/2026/04/Figure-Drawing-Flyer-3-Joe-Hopkinson.jpeg
END:VEVENT
BEGIN:VEVENT
DTSTART;TZID=America/Chicago:20260911T173000
DTEND;TZID=America/Chicago:20260911T200000
DTSTAMP:20260420T232449
CREATED:20260416T171809Z
LAST-MODIFIED:20260416T174634Z
UID:10032718-1789147800-1789156800@lowemill.art
SUMMARY:Huntsville Figure Drawing
DESCRIPTION:Ann Moeller Studio 271 in vibrant Lowe Mill ARTS & Entertainment opens her doors for live model sessions that spark creativity and sharpen your artistic eye in an inspiring\, studio-rich environment. Whether you’re just beginning or a seasoned artist\, this is your chance to immerse yourself in the timeless practice of drawing from life. \nThese uninstructed sessions put freedom at the forefront—explore your own style\, experiment with technique\, and move at your own pace as you study the human form. Easels\, taborets\, and stools are provided\, so just bring your favorite art supplies and your creative energy. \nStep into a space where observation meets expression\, and let the rhythm of live drawing elevate your craft.
URL:https://lowemill.art/event/huntsville-figure-drawing-5/2026-09-11/
LOCATION:Ann Moeller Studios | Studio 271
CATEGORIES:Classes & Wokshops
ATTACH;FMTTYPE=image/jpeg:https://lowemill.art/wp-content/uploads/2026/04/Figure-Drawing-Flyer-3-Joe-Hopkinson.jpeg
END:VEVENT
BEGIN:VEVENT
DTSTART;TZID=America/Chicago:20260925T173000
DTEND;TZID=America/Chicago:20260925T200000
DTSTAMP:20260420T232449
CREATED:20260416T171809Z
LAST-MODIFIED:20260416T174634Z
UID:10032769-1790357400-1790366400@lowemill.art
SUMMARY:Huntsville Figure Drawing
DESCRIPTION:Ann Moeller Studio 271 in vibrant Lowe Mill ARTS & Entertainment opens her doors for live model sessions that spark creativity and sharpen your artistic eye in an inspiring\, studio-rich environment. Whether you’re just beginning or a seasoned artist\, this is your chance to immerse yourself in the timeless practice of drawing from life. \nThese uninstructed sessions put freedom at the forefront—explore your own style\, experiment with technique\, and move at your own pace as you study the human form. Easels\, taborets\, and stools are provided\, so just bring your favorite art supplies and your creative energy. \nStep into a space where observation meets expression\, and let the rhythm of live drawing elevate your craft.
URL:https://lowemill.art/event/huntsville-figure-drawing-5/2026-09-25/
LOCATION:Ann Moeller Studios | Studio 271
CATEGORIES:Classes & Wokshops
ATTACH;FMTTYPE=image/jpeg:https://lowemill.art/wp-content/uploads/2026/04/Figure-Drawing-Flyer-3-Joe-Hopkinson.jpeg
END:VEVENT
BEGIN:VEVENT
DTSTART;TZID=America/Chicago:20261009T173000
DTEND;TZID=America/Chicago:20261009T200000
DTSTAMP:20260420T232449
CREATED:20260416T171809Z
LAST-MODIFIED:20260416T174634Z
UID:10032719-1791567000-1791576000@lowemill.art
SUMMARY:Huntsville Figure Drawing
DESCRIPTION:Ann Moeller Studio 271 in vibrant Lowe Mill ARTS & Entertainment opens her doors for live model sessions that spark creativity and sharpen your artistic eye in an inspiring\, studio-rich environment. Whether you’re just beginning or a seasoned artist\, this is your chance to immerse yourself in the timeless practice of drawing from life. \nThese uninstructed sessions put freedom at the forefront—explore your own style\, experiment with technique\, and move at your own pace as you study the human form. Easels\, taborets\, and stools are provided\, so just bring your favorite art supplies and your creative energy. \nStep into a space where observation meets expression\, and let the rhythm of live drawing elevate your craft.
URL:https://lowemill.art/event/huntsville-figure-drawing-5/2026-10-09/
LOCATION:Ann Moeller Studios | Studio 271
CATEGORIES:Classes & Wokshops
ATTACH;FMTTYPE=image/jpeg:https://lowemill.art/wp-content/uploads/2026/04/Figure-Drawing-Flyer-3-Joe-Hopkinson.jpeg
END:VEVENT
BEGIN:VEVENT
DTSTART;TZID=America/Chicago:20261023T173000
DTEND;TZID=America/Chicago:20261023T200000
DTSTAMP:20260420T232449
CREATED:20260416T171809Z
LAST-MODIFIED:20260416T174634Z
UID:10032770-1792776600-1792785600@lowemill.art
SUMMARY:Huntsville Figure Drawing
DESCRIPTION:Ann Moeller Studio 271 in vibrant Lowe Mill ARTS & Entertainment opens her doors for live model sessions that spark creativity and sharpen your artistic eye in an inspiring\, studio-rich environment. Whether you’re just beginning or a seasoned artist\, this is your chance to immerse yourself in the timeless practice of drawing from life. \nThese uninstructed sessions put freedom at the forefront—explore your own style\, experiment with technique\, and move at your own pace as you study the human form. Easels\, taborets\, and stools are provided\, so just bring your favorite art supplies and your creative energy. \nStep into a space where observation meets expression\, and let the rhythm of live drawing elevate your craft.
URL:https://lowemill.art/event/huntsville-figure-drawing-5/2026-10-23/
LOCATION:Ann Moeller Studios | Studio 271
CATEGORIES:Classes & Wokshops
ATTACH;FMTTYPE=image/jpeg:https://lowemill.art/wp-content/uploads/2026/04/Figure-Drawing-Flyer-3-Joe-Hopkinson.jpeg
END:VEVENT
BEGIN:VEVENT
DTSTART;TZID=America/Chicago:20261106T173000
DTEND;TZID=America/Chicago:20261106T200000
DTSTAMP:20260420T232449
CREATED:20260416T171809Z
LAST-MODIFIED:20260416T174634Z
UID:10032771-1793986200-1793995200@lowemill.art
SUMMARY:Huntsville Figure Drawing
DESCRIPTION:Ann Moeller Studio 271 in vibrant Lowe Mill ARTS & Entertainment opens her doors for live model sessions that spark creativity and sharpen your artistic eye in an inspiring\, studio-rich environment. Whether you’re just beginning or a seasoned artist\, this is your chance to immerse yourself in the timeless practice of drawing from life. \nThese uninstructed sessions put freedom at the forefront—explore your own style\, experiment with technique\, and move at your own pace as you study the human form. Easels\, taborets\, and stools are provided\, so just bring your favorite art supplies and your creative energy. \nStep into a space where observation meets expression\, and let the rhythm of live drawing elevate your craft.
URL:https://lowemill.art/event/huntsville-figure-drawing-5/2026-11-06/
LOCATION:Ann Moeller Studios | Studio 271
CATEGORIES:Classes & Wokshops
ATTACH;FMTTYPE=image/jpeg:https://lowemill.art/wp-content/uploads/2026/04/Figure-Drawing-Flyer-3-Joe-Hopkinson.jpeg
END:VEVENT
BEGIN:VEVENT
DTSTART;TZID=America/Chicago:20261120T173000
DTEND;TZID=America/Chicago:20261120T200000
DTSTAMP:20260420T232449
CREATED:20260416T171809Z
LAST-MODIFIED:20260416T174634Z
UID:10032772-1795195800-1795204800@lowemill.art
SUMMARY:Huntsville Figure Drawing
DESCRIPTION:Ann Moeller Studio 271 in vibrant Lowe Mill ARTS & Entertainment opens her doors for live model sessions that spark creativity and sharpen your artistic eye in an inspiring\, studio-rich environment. Whether you’re just beginning or a seasoned artist\, this is your chance to immerse yourself in the timeless practice of drawing from life. \nThese uninstructed sessions put freedom at the forefront—explore your own style\, experiment with technique\, and move at your own pace as you study the human form. Easels\, taborets\, and stools are provided\, so just bring your favorite art supplies and your creative energy. \nStep into a space where observation meets expression\, and let the rhythm of live drawing elevate your craft.
URL:https://lowemill.art/event/huntsville-figure-drawing-5/2026-11-20/
LOCATION:Ann Moeller Studios | Studio 271
CATEGORIES:Classes & Wokshops
ATTACH;FMTTYPE=image/jpeg:https://lowemill.art/wp-content/uploads/2026/04/Figure-Drawing-Flyer-3-Joe-Hopkinson.jpeg
END:VEVENT
BEGIN:VEVENT
DTSTART;TZID=America/Chicago:20261204T173000
DTEND;TZID=America/Chicago:20261204T200000
DTSTAMP:20260420T232449
CREATED:20260416T171809Z
LAST-MODIFIED:20260416T174634Z
UID:10032773-1796405400-1796414400@lowemill.art
SUMMARY:Huntsville Figure Drawing
DESCRIPTION:Ann Moeller Studio 271 in vibrant Lowe Mill ARTS & Entertainment opens her doors for live model sessions that spark creativity and sharpen your artistic eye in an inspiring\, studio-rich environment. Whether you’re just beginning or a seasoned artist\, this is your chance to immerse yourself in the timeless practice of drawing from life. \nThese uninstructed sessions put freedom at the forefront—explore your own style\, experiment with technique\, and move at your own pace as you study the human form. Easels\, taborets\, and stools are provided\, so just bring your favorite art supplies and your creative energy. \nStep into a space where observation meets expression\, and let the rhythm of live drawing elevate your craft.
URL:https://lowemill.art/event/huntsville-figure-drawing-5/2026-12-04/
LOCATION:Ann Moeller Studios | Studio 271
CATEGORIES:Classes & Wokshops
ATTACH;FMTTYPE=image/jpeg:https://lowemill.art/wp-content/uploads/2026/04/Figure-Drawing-Flyer-3-Joe-Hopkinson.jpeg
END:VEVENT
BEGIN:VEVENT
DTSTART;TZID=America/Chicago:20261218T173000
DTEND;TZID=America/Chicago:20261218T200000
DTSTAMP:20260420T232449
CREATED:20260416T171809Z
LAST-MODIFIED:20260416T174634Z
UID:10032774-1797615000-1797624000@lowemill.art
SUMMARY:Huntsville Figure Drawing
DESCRIPTION:Ann Moeller Studio 271 in vibrant Lowe Mill ARTS & Entertainment opens her doors for live model sessions that spark creativity and sharpen your artistic eye in an inspiring\, studio-rich environment. Whether you’re just beginning or a seasoned artist\, this is your chance to immerse yourself in the timeless practice of drawing from life. \nThese uninstructed sessions put freedom at the forefront—explore your own style\, experiment with technique\, and move at your own pace as you study the human form. Easels\, taborets\, and stools are provided\, so just bring your favorite art supplies and your creative energy. \nStep into a space where observation meets expression\, and let the rhythm of live drawing elevate your craft.
URL:https://lowemill.art/event/huntsville-figure-drawing-5/2026-12-18/
LOCATION:Ann Moeller Studios | Studio 271
CATEGORIES:Classes & Wokshops
ATTACH;FMTTYPE=image/jpeg:https://lowemill.art/wp-content/uploads/2026/04/Figure-Drawing-Flyer-3-Joe-Hopkinson.jpeg
END:VEVENT
END:VCALENDAR